Workbook
Name Développer_et_mobiliser_ses_habiletés_technologiques: 'NE PAS TOUCHER'!$K$4:$K$11
Name Danse_Primaire_Énergie_2e_cycle: 'NE PAS TOUCHER'!$B$151:$B$154
Name Primaire_1er_cycle: 'NE PAS TOUCHER'!$D$10:$D$11
Name Art_dramatique_Primaire_Condition_de_jeu_2e_cycle: 'NE PAS TOUCHER'!$D$297:$D$300
Name Musique_Primaire_Tempo_1er_cycle: 'NE PAS TOUCHER'!$N$44:$N$45
Name Musique_Secondaire_Représentation_graphique_à_l_aide_d_un_code_traditionnel_ou_d_un_code_non_traditionnel_conventionnel_2e_cycle: 'NE PAS TOUCHER'!$Z$37:$Z$38
Name Musique_Primaire_Code_non_traditionnel_conventionnel_2e_cycle: 'NE PAS TOUCHER'!$D$50:$D$53
Name Musique_Secondaire_Qualité_du_son_1er_cycle: 'NE PAS TOUCHER'!$Z$88:$Z$91
Name Art_dramatique_Secondaire_Conventions_2e_cycle: 'NE PAS TOUCHER'!$T$328:$T$330
Name Art_dramatique_Primaire_Marionnette_2e_cycle: 'NE PAS TOUCHER'!$F$297:$F$302
Name Art_dramatique_Secondaire_Éléments_visuels_et_sonores_1er_cycle: 'NE PAS TOUCHER'!$V$294:$V$305
Name Cadre_de_référence_de_la_compétence_numérique: 'NE PAS TOUCHER'!$H$3:$H$14
Name Art_dramatique_Primaire_Scénographie_3e_cycle: 'NE PAS TOUCHER'!$H$310:$H$312
Name Danse_Secondaire_Énergie_1er_cycle: 'NE PAS TOUCHER'!$T$156:$T$161
Name Art_dramatique_Secondaire_Moyens_corporels_et_expressifs_2e_cycle: 'NE PAS TOUCHER'!$R$324:$R$329
Name Art_dramatique_Primaire_Fonction_de_l_objet_1er_cycle: 'NE PAS TOUCHER'!$H$305:$H$306
Name Musique_Primaire_Instruments_de_percussion_et_autres_moyens_sonores_3e_cycle: 'NE PAS TOUCHER'!$H$45:$H$48
Name Art_dramatique_Secondaire_Mise_en_scène_travail_d_ensemble_2e_cycle: 'NE PAS TOUCHER'!$V$313:$V$317
Name Danse_Secondaire_Connaissances: 'NE PAS TOUCHER'!$T$100:$T$103
Name Musique_Secondaire_Timbre_1er_cycle: 'NE PAS TOUCHER'!$Z$78:$Z$80
Name Musique_Primaire_Règles_de_musique_d_ensemble_3e_cycle: 'NE PAS TOUCHER'!$J$36:$J$41
Name Musique_Primaire_Procédés_de_composition_2e_cycle: 'NE PAS TOUCHER'!$L$36:$L$39
Name Danse_Secondaire_Structure_2e_cycle: 'NE PAS TOUCHER'!$V$133:$V$142
Name Art_dramatique_Primaire_Moyens_corporels_2e_cycle: 'NE PAS TOUCHER'!$B$297:$B$300
Name Danse_Primaire_Règles_relatives_aux_mouvements_d_ensemble: 'NE PAS TOUCHER'!$E$110
Name Art_dramatique_Primaire_Environnement_sonore__cycle: 'NE PAS TOUCHER'!$D$35
Name Musique_Primaire_Structures: 'NE PAS TOUCHER'!$M$28:$M$31
Name Musique_Secondaire_Règles_de_musique_d_ensemble_2e_cycle: 'NE PAS TOUCHER'!$R$36:$R$42
Name Arts_Plastiques_Primaire_Outils_1er_cycle: 'NE PAS TOUCHER'!$B$254:$B$257
Name Art_dramatique_Primaire_Éléments_expressifs_1er_cycle: 'NE PAS TOUCHER'!$D$327
Name Musique_Primaire_Timbre_1er_cycle: 'NE PAS TOUCHER'!$B$61:$B$62
Name Danse_Primaire_Transfert_du_poids_2e_cycle: 'NE PAS TOUCHER'!$D$151:$D$153
Name Art_dramatique_Secondaire_Éléments_visuels_et_sonores_2e_cycle: 'NE PAS TOUCHER'!$V$294:$V$309
Name Art_dramatique_Secondaire_Moyens_dramaturgiques_et_structure_dramatique_2e_cycle: 'NE PAS TOUCHER'!$T$303:$T$308
Name Art_dramatique_Secondaire_Jeu_dramatique: 'NE PAS TOUCHER'!$Q$287:$Q$291
Name Musique_Secondaire_Forme_1er_cycle: 'NE PAS TOUCHER'!$AB$37:$AB$44
Name Musique_Primaire_Règles_de_musique_d_ensemble_2e_cycle: 'NE PAS TOUCHER'!$J$36:$J$40
Name Danse_Primaire_Règles_relatives_aux_mouvements_d_ensemble_3e_cycle: 'NE PAS TOUCHER'!$F$117:$F$121
Name Danse_Secondaire_Technique_du_mouvement_dansé: 'NE PAS TOUCHER'!$Q$109:$Q$110
Name Année_du_cycle_Secondaire_1er_cycle: 'NE PAS TOUCHER'!$D$10:$D$11
Name Musique_Primaire_TIC_3e_cycle: 'NE PAS TOUCHER'!$F$55:$F$57
Name Musique_Secondaire_Représentation_graphique_à_l_aide_d_un_code_traditionnel_ou_d_un_code_non_traditionnel_conventionnel_1er_cycle: 'NE PAS TOUCHER'!$Z$37:$Z$38
Name Développer_et_mobiliser_sa_culture_informationnelle: 'NE PAS TOUCHER'!$M$4:$M$11
Name Secondaire_2e_cycle: 'NE PAS TOUCHER'!$D$10:$D$12
Name Art_dramatique_Primaire_Théâtre_d_ombres_3e_cycle: 'NE PAS TOUCHER'!$F$317:$F$320
Name Danse_Primaire_Temps_1er_cycle: 'NE PAS TOUCHER'!$B$127:$B$129
Name Danse_Secondaire_Principes_chorégraphiques: 'NE PAS TOUCHER'!$U$110:$U$111
Name Danse_Primaire_Structures_1er_cycle: 'NE PAS TOUCHER'!$J$117:$J$120
Name Musique_Secondaire_Tempo_1er_cycle: 'NE PAS TOUCHER'!$AB$49:$AB$57
Name Danse_Secondaire: 'NE PAS TOUCHER'!$Q$102:$Q$104
Name Arts_Plastiques_Primaire_Techniques_3e_cycle: 'NE PAS TOUCHER'!$B$263:$B$270
Name Danse_Secondaire_Conventions_de_la_danse_1er_cycle: 'NE PAS TOUCHER'!$X$118:$X$121
Name Danse_Primaire_Procédés_de_composition_2e_cycle: 'NE PAS TOUCHER'!$H$117:$H$122
Name Arts_Plastiques_Secondaire_Critères_d_évaluation: 'NE PAS TOUCHER'!$AA$208:$AA$218
Name Musique_Primaire_Critères_d_évaluation: 'NE PAS TOUCHER'!$O$35:$O$55
Name Année_du_cycle_Secondaire_2e_cycle: 'NE PAS TOUCHER'!$D$10:$D$12
Name Art_dramatique_Primaire_Structures: 'NE PAS TOUCHER'!$J$288:$J$290
Name Musique_Primaire_Représentation_graphique: 'NE PAS TOUCHER'!$C$28:$C$32
Name Art_dramatique_Primaire_Formes_de_discours_3e_cycle: 'NE PAS TOUCHER'!$K$308:$K$309
Name Art_dramatique_Primaire_Développement_de_la_fable_2e_cycle: 'NE PAS TOUCHER'!$K$298:$K$302

Sheet Présentation de loutil
A1: #VALUE!
B2: Bienvenue dans cet outil interactif de planification d'activité pédagogique intégrant la compétence numérique en ARTS. Vous disposez maintenant d'une copie qui vous appartient et que vous pouvez modifier/dupliquer à votre guise. Le gabarit permet de sélectionner votre discipline artistique, l'ordre d'enseignement et le cycle. Dans ce gabarit, seuls les savoirs essentiels et les contenus disciplinaires associés aux choix que vous avez entrés seront affichés. C'est là toute la magie de ce gabarit. Il est construit en conformité des neuf pistes de planification proposées par le Guide pédagogique du Cadre de référence de la compétence numérique.
B3: Il est construit en conformité des neuf pistes de planification proposées par le Guide pédagogique du Cadre de référence de la compétence numérique.
B4: Cliquer sur l'onglet Activité pédaogique ARTS pour commencer
B5: Vous ne pouvez avoir qu'une activité pédagogique par fichier. Un onglet dupliqué n'aura pas 100% de fonctionalité.
B8: Tutoriel de démonstration
B10: Pour rapporter une coquille
G12: NB: Cet outil ne remplace pas les documents ministériels officiels
F13: Licence CC-BY-NC 4.0 | G13: =IMAGE("https://mirrors.creativecommons.org/presskit/buttons/88x31/png/by-nc.png") -> #REF!
G14: Merci de respecter les crédits de l'auteure d'origine : Brigitte-Louise Lessard, RÉCIT ARTS

Sheet Titre de votre activité pédagog
A1: #VALUE!
A2: Titre | B2: Titre de votre activité pédagogique | F2: Date
A3: Discipline | D3: Ordre | F3: Cycle
A4: Durée du projet | F4: Année du cycle
A5: Domaine général de formation et son axe de développement | E5: Repères culturels
A7: Compétences transversales et leur composante
A9: Dimensions du Cadre de référence de la compétence numérique, _x000a_leurs éléments et niveau ciblés
A15: Compétences disciplinaires
A17: Savoirs essentiels/Contenus ciblés
A18: Catégorie | C18: Choix | D18: Par cycle
A26: Intention pédagogique
A27: Résumé de l'activité
A28: Critères d'évaluation
A31: Phase de préparation | B31: Enseignant | D31: Tâche(s) de l'élève | F31: Ressources numériques et matérielles
B32: Amorce / Activation des connaissances antérieures :
F34: Type d'évaluation/observation
B37: Modalités:
A38: Phase de réalisation | B38: Enseignant | D38: Tâche(s) de l'élève | F38: Ressources numériques et matérielles
B39: Activité 1
B41: Activité 2 | F41: Type d'évaluation/observation
B43: Modalités:
A44: Phase d'intégration | B44: Enseignant | D44: Retour réflexif | F44: Ressources numériques et matérielles
B45: Retour sur les apprentissages
F46: Type d'évaluation/observation
B48: Modalités:
A49: Pour aller plus loin
G50: Licence CC-BY-NC 4.0
G51: =IMAGE("https://mirrors.creativecommons.org/presskit/buttons/88x31/png/by-nc.png") -> #REF!

Sheet Exemple en Art dramatique
A1: #VALUE!
A2: Titre | B2: La commedia dell'arte | F2: Date | G2: 45329
A3: Discipline | C3: Art_dramatique | D3: Ordre | E3: Secondaire | F3: Cycle | G3: 2e_cycle
A4: Durée du projet | C4: 10 cours | F4: Année du cycle | G4: 1
A5: Domaine général de formation et son axe de développement | C5: Vivre_ensemble_et_citoyenneté | E5: Repères culturels | F5: Italie, théâtre de trétaux, jeux masqué, canevas, improvisation
C6: Valorisation des règles de vie en société et des institutions démocratiques
A7: Compétences transversales et leur composante | C7: Mettre_en_oeuvre_sa_pensée_créatrice | E7: Coopérer
C8: S’engager dans l’exploration | E8: Contribuer au travail coopératif
A9: Dimensions du Cadre de référence de la compétence numérique, leurs éléments et niveau ciblés | C9: Développer_et_mobiliser_sa_culture_informationnelle | G9: Débutant
C10: Sélectionner et utiliser adéquatement l’information en tenant compte du contexte de surcharge informationnelle, par exemple des bulles de filtres | E10: Ajuster, au besoin, ses résultats de recherche en fonction de leur évaluation et organiser le contenu de ses recherches pour l’analyser
C11: Développer_et_mobiliser_sa_culture_informationnelle | G11: Débutant
A15: Compétences disciplinaires | C15: C1-Créer des œuvres dramatiques
A17: Savoirs essentiels/Contenus ciblés
A18: Catégorie | C18: Choix | D18: Par cycle
A19: Structure_dramatique | C19: Caractère_du_personnage | D19: Traits distinctifs | E19: Aspects_historiques | F19: Aspects_socioculturels | G19: Intention
A20: Jeu_dramatique | C20: Construction_du_personnage | D20: Voix | E20: Attitude | F20: Gestuelle | G20: Rythme
A21: Structure_théâtrale | C21: Mise_en_scène_travail_d_ensemble | D21: Mise en place
A22: Jeu_dramatique | C22: Moyens_corporels_et_expressifs | D22: Ouverture vers le public | E22: Amplitude | F22: Tonus
A23: Jeu_dramatique | C23: Moyens_vocaux_et_expressifs | D23: Projection | E23: Intonation
A24: Structure_théâtrale | C24: Mise_en_scène_travail_d_ensemble | D24: Mise en place | E24: Ajustement de son jeu à celui de partenaires
A25: Structure_théâtrale | C25: Techniques_théâtrales | D25: Jeu_masqué | E25: Commedia dell’arte
A26: Intention pédagogique | C26: Mettre en scène un canevas de commedia dell'arte
A27: Résumé de l'activité | C27: Après plusieurs ateliers pour apprendre les personnages et les différents thêmes de la commedia dell'arte, les élèves deront faire la mise en scène d'un canevas en équipe afin de la présenter à des élèves du primaire.
A28: Critères d'évaluation | C28: C1-C2 Maîtrise des connaissances ciblées par la progression des apprentissages : Jeu dramatique
C29: C1-C2-C3 Utilisation du vocabulaire disciplinaire
C30: C1-C2 Maîtrise des connaissances ciblées par la progression des apprentissages : Structure dramatique
A31: Phase de préparation | B31: Enseignant | C31: 3 cours | D31: Tâche(s) de l'élève | F31: Ressources numériques et matérielles
B32: Amorce / Activation des connaissances antérieures :
B33: Présenter les masques de la commedia dell'arte et sans expliquer les personnages demander aux élèves de s'imaginer un personnagequi corespond au masque. | D33: Construire une identité au masque puis, faire une recherche sur la commedia dell'arte les personnage l'époque et le type de présentation. | F33: Ordinateur pour recherche en ligne.
F34: Type d'évaluation/observation
F35: Observation et recherche écrite
B37: Modalités: | C37: En classe
A38: Phase de réalisation | B38: Enseignant | D38: Tâche(s) de l'élève | F38: Ressources numériques et matérielles
B39: Activité 1
B40: Ateliers: personages, canevas, lazzi, gromelot, combat | D40: Jouer les personnages, présenter un lazzi et scène de combat
B41: Activité 2 | F41: Type d'évaluation/observation
B42: Présentation d'un canevas en équipe. | D42: Créer les scènes et les improvisation d'un caneves en équipe pour le présenter à des élèves de 4 ième année | F42: Grille d'observation
B43: Modalités: | C43: En classe et à l'école primaire
A44: Phase d'intégration | B44: Enseignant | D44: Retour réflexif | F44: Ressources numériques et matérielles
B45: Retour sur les apprentissages | F45: Forms
...

Sheet Exemple en Arts plastiques
A1: #VALUE!
A2: Titre | B2: Apprécier l'art de rue en collaboration | F2: Date
A3: Discipline | C3: Arts_plastiques | D3: Ordre | E3: Secondaire | F3: Cycle | G3: 2e_cycle
A4: Durée du projet | F4: Année du cycle
A5: Domaine général de formation et son axe de développement | C5: Vivre_ensemble_et_citoyenneté | E5: Repères culturels | F5: Univers de Banksy, Créations de l'artiste québécois Wartin Pantois et le street Art Montréalais
A7: Compétences transversales et leur composante | C7: Exercer_son_jugement_critique
C8: Exprimer son opinion
A9: Dimensions du Cadre de référence de la compétence numérique, leurs éléments et niveau ciblés | C9: Collaborer_à_l_aide_du_numérique
C10: Sélectionner et utiliser les outils numériques de collaboration appropriés en fonction de ses besoins et du contexte
C11: Produire_du_contenu_avec_le_numérique
C12: Sélectionner et utiliser les outils numériques de production appropriés en fonction de ses besoins
A15: Compétences disciplinaires | C15: C3-Apprécier des images
A17: Savoirs essentiels/Contenus ciblés
A18: Catégorie | C18: Choix | D18: Par cycle
A19: Langage_plastique | C19: Langage_plastique_espace_et_organisation_spatiotemporelle | D19: Espace bidimensionnel
A20: Gestes_transformateurs_matériaux_et_outils | C20: Techniques | D20: Impression
A21: Langage_plastique | C21: Langage_plastique_et_multimédia | D21: Formes figuratives | E21: Valeurs dans les tons | F21: Textures représentées | G21: Couleurs pigmentaires foncées
A22: Langage_plastique | C22: Langage_plastique_et_multimédia | D22: Formes abstraites | E22: Valeurs dans les couleurs | F22: Couleurs : contraste | G22: Couleurs pigmentaires claires
A26: Intention pédagogique | C26: Amener les élèves à développer leur jugement critique à propos l'art de rue et la question éthique entourant ce type d'art en réfléchissant sur une oeuvre réalisée par Banksy.
A27: Résumé de l'activité | C27: Suite au visionnement du documentaire «Saving Banksy», les élèves seront amenés à discuter, en équipe, sur le sujet de la monétisation/propriété intellectuelle de l'art de rue et du point de vue éthique en lien avec l'illégalité de ce type d’art. Ensuite, ils choisiront une oeuvre de la pratique de Bnaksy et en feront l'appréciation dans un Slide collaboratif.
A28: Critères d'évaluation | C28: C3 Maîtrise des connaissances ciblées par la progression des apprentissages : Répertoire visuel et repères culturels
C29: C3 Maîtrise des connaissances ciblées par la progression des apprentissages : Concepts et notions
C30: C3 Maîtrise des connaissances ciblées par la progression des apprentissages : Gestes transformateurs, matériaux et outils
A31: Phase de préparation | B31: Enseignant | D31: Tâche(s) de l'élève | F31: Ressources numériques et matérielles
B32: Amorce / Activation des connaissances antérieures :
B33: En groupe, questionner les élèves et modéliser l'appréciation afin d'Activer les connaissances antérieures. | D33: Participer activement; répondre aux questions lorsque son nom est pigé et noter les connaissances qui auraient été oubliées | F33: Pige avec wheel of names
F34: Type d'évaluation/observation
B37: Modalités:
A38: Phase de réalisation | B38: Enseignant | D38: Tâche(s) de l'élève | F38: Ressources numériques et matérielles
B39: Activité 1 | C39: 1h15
B40: Projeter le documentaire et guider les élèves dans l'usage du document Canva | D40: Visionner le documentaire et noter les informations pertinente sur les droits d’auteur et l'aspect légal dans un document collaboratif Canva | F40: Canva
B41: Activité 2 | C41: 45 mins | F41: Type d'évaluation/observation
B42: En premier lieu, donner des pistes de réflexion. En deuxième lieu, guider les élèves vers le canva d'appréciation. | D42: Discuter en équipe des points soulevés dans le documentaire | E42: Apprécier l'oeuvre choisie en équipe de façon collaborative dans le slide prévu à cet effet | F42: Google Slides
B43: Modalités:
A44: Phase d'intégration | B44: Enseignant | C44: 30 mins | D44: Retour réflexif | F44: Ressources numériques et matérielles
B45: Retour sur les apprentissages | F45: https://wheelofnames.com/
B46: Questionner les élèves sur ce qu'ils ont appris | D46: Participer activement; répondre aux questions lorsque son nom est pigé | F46: Type d'évaluation/observation
B48: Modalités:
A49: Pour aller plus loin | C49: Faire une création d'impression inspirée de l'art de rue
G50: Licence CC-BY-NC 4.0
...

Sheet Exemple en Danse
A1: #VALUE!
A2: Titre | B2: Explorer et visualiser l'espace | F2: Date | G2: 45322
A3: Discipline | C3: Danse | D3: Ordre | E3: Secondaire | F3: Cycle | G3: 2e_cycle
A4: Durée du projet | C4: L'équivalent de 3 périodes de 75 minutes | F4: Année du cycle | G4: 1
A5: Domaine général de formation et son axe de développement | C5: Médias | E5: Repères culturels | F5: Technique d'improvisation du chorégraphe américain William Forsythe (en ligne ici); Oeuvre One flat tthing reproduced du Nederlands Dans Theater (NDT) de William Forsythe (teaser vidéo)
C6: Constat de la place et de l’influence des médias dans sa vie quotidienne et dans la société
A7: Compétences transversales et leur composante | C7: Mettre_en_oeuvre_sa_pensée_créatrice
C8: S’engager dans l’exploration
A9: Dimensions du Cadre de référence de la compétence numérique, leurs éléments et niveau ciblés | C9: Innover_et_faire_preuve_de_créativité_avec_le_numérique | G9: Débutant
C10: Développer sa capacité à innover en utilisant le numérique pour des projets créatifs réalisés dans un contexte artistique, personnel ou professionnel
C11: Produire_du_contenu_avec_le_numérique | G11: Débutant
C12: Produire ou coproduire une diversité de contenus (numériques ou non) avec le numérique et dans le cadre d’activités pédagogiques, professionnelles ou de la vie courante
A15: Compétences disciplinaires | C15: C1-Créer des danses
C16: C3-Apprécier des danses
A17: Savoirs essentiels/Contenus ciblés
A18: Catégorie | C18: Choix | D18: Par cycle
A19: Langage_de_la_danse | C19: Espace | D19: Espace_personnel | E19: Espace_général | F19: Niveaux | G19: Trajectoires
A20: Langage_de_la_danse | C20: Espace | D20: Orientations | E20: Directions
A21: Conventions_de_la_danse | C21: Conventions_de_la_danse | D21: Ajustement de ses mouvements
A26: Intention pédagogique | C26: À la fin de l'activité , l'élève sera en mesure de comprendre les notions liées à l'espace et d'intégrer ces dernières dans un contexte de création. Il.elle sera amené à explorer l'espace de manière tridimensionnelle via les principes d'improvisation de William Forsythe.
A27: Résumé de l'activité | C27: Par l'exploration des principes d'improvisation de William Fosythe et par l'appréciation d'une oeuvre, l'élève s'approprie les différentes notions reliées à l'espaces (niveaux, trajectoires aériennes et au sol, orientations/directions, espaces personnel/général). Il. crée une séquence gestuelle en équipe.
A28: Critères d'évaluation | C28: C1-C2 Maîtrise des connaissances ciblées par la progression des apprentissages : Langage de la danse
C29: C1-C2 Cohérence de l’organisation des éléments
A31: Phase de préparation | B31: Enseignant | C31: 45 minutes (P1) | D31: Tâche(s) de l'élève | F31: Ressources numériques et matérielles
B32: Amorce / Activation des connaissances antérieures
B33: Révision des notions de plans, de kinesphère, de lignes et de formes (exemples physiques); Appréciation d'un extait de l'oeuvre (3 minutes) One flat thing reproduced de William Fosythe; Animer une discussion autour de l'oeuvre (cibler les notions de l'espace présentes) et consigner les observations. | D33: Répondre aux questions de l'enseignant.e et réviser les notions dans son propre corps; Observer l'oeuvre et participer à la discussion de groupe (appréciation). | F33: One flat thing reproduced de William Forsythe
F34: Type d'évaluation/observation
F35: Validation visuelle des notions antérieures
F36: Utiliser un tableau blanc (ou google doc) afin d'y inscrire les notions d'espace observées dans l'oeuvre.
B37: Modalités: | C37: En présence, en groupe
A38: Phase de réalisation | B38: Enseignant | D38: Tâche(s) de l'élève | F38: Ressources numériques et matérielles
B39: Activité 1 | C39: 50 minutes (P1, P2)
B40: Exploration en groupe de 10 notions de William Forsythe (Cliquer ici pour une proposition de 10 notions.); Mener une improvisation dirigée afin de varier les mouvements et assurer la compréhension chez vos élèves. | D40: Observer l'explication via vidéo et danser/improviser chacune des notions. | F40: Technique d'improvisation de William Forsythe
B41: Activité 2 | C41: 80 minutes (P2, P3) | F41: Type d'évaluation/observation
B42: Diviser le groupe en équipe de création (3 ou 4 élèves par groupe); Soutenir les équipes de création. | D42: Choisir 3 éléments à intégrer dans sa création; Créer une séquence de 30 à 45 secondes (10 à 15 secondes par élément de manière continue). | F42: S'assurer de la bonne compréhension des 3 notions choisies par chacune des équipes.
B43: Modalités: | C43: En présence, en groupe puis en équipe
A44: Phase d'intégration | B44: Enseignant | C44: 50 minutes (P3) | D44: Retour réflexif | F44: Ressources numériques et matérielles
B45: Retour sur les apprentissages | F45: One flat thing reproduced de William Forsythe
B46: Présentation des séquences de chaque équipe; Appréciation de l'extrait vu au début de l'activité et repérage des notions explorées. | D46: Reconnaître les notions utilisées dans l'extrait de l'oeuvre et par chacune des équipes. | F46: Type d'évaluation/observation
F47: Observation par les pairs; Grille par l'enseignant.e (C1).
...

Sheet Exemple en Musique
A1: #VALUE!
A2: Titre | B2: Ostinato d'Harry Potter | F2: Date | G2: 45209
A3: Discipline | C3: Musique | D3: Ordre | E3: Primaire | F3: Cycle | G3: 3e_cycle
A4: Durée du projet | C4: 2 périodes de 60 minutes | F4: Année du cycle | G4: 1
A5: Domaine général de formation et son axe de développement | C5: Médias | E5: Repères culturels | F5: Univers d'Harry Potter
C6: Constat de la place et de l’influence des médias dans sa vie quotidienne et dans la société
A7: Compétences transversales et leur composante | C7: Exploiter_l_information
C8: Tirer profit de l’information
A9: Dimensions du Cadre de référence de la compétence numérique, leurs éléments et niveau ciblés | C9: Exploiter_le_potentiel_du_numérique_pour_l_apprentissage | G9: Débutant
C10: Utiliser les occasions offertes par le numérique pour alimenter sa curiosité et son ouverture sur le monde ainsi que pour apprendre ou faire apprendre
A15: Compétences disciplinaires | C15: C2-Interpréter des pièces musicales
A17: Savoirs essentiels/Contenus ciblés
A18: Catégorie | C18: Choix | D18: Par cycle
A19: Langage_musical | C19: Durée | D19: Noire | E19: Blanche | F19: Saute | G19: Soupir
A20: Moyens_sonores | C20: Voix_et_corps | D20: Voix chantée | E20: Effets vocaux | F20: Percussions corporelles
A21: Techniques_instrumentales | C21: Voix | D21: Respiration | E21: Posture (Voix) | F21: Tonus
A22: Règles_de_musique_d_ensemble | C22: Règles_de_musique_d_ensemble | D22: Gestes de direction de début de la pièce | E22: Gestes de direction de fin de la pièce | F22: Gestes de direction liés à la pulsation | G22: Indications sonores ou visuelles
A23: Procédés_de_composition | C23: Procédés_de_composition | D23: Ostinato
A24: Structures | C24: Forme | D24: A-B
A25: Structures | C25: Tempo | D25: Modéré
A26: Intention pédagogique | C26: Interpréter un ostinato par accumulation
A27: Résumé de l'activité | C27: Avec la vidéo présentée, les élèves apprendront et interpréteront un ostinato avec les noms des personnages du monde d'Harry Potter
A28: Critères d'évaluation | C28: C1-C2 Maîtrise des connaissances ciblées par la progression des apprentissages : Langage musical
C29: C1-C2 Maîtrise des connaissances ciblées par la progression des apprentissages : Structures
C30: C1-C2 Respect des caractéristiques de la pièce
A31: Phase de préparation | B31: Enseignant | C31: 15 minutes | D31: Tâche(s) de l'élève | F31: Ressources numériques et matérielles
B32: Amorce / Activation des connaissances antérieures :
B33: Avec des questions, revoir les figures de notes et de silence Revoir ce qu'est l'ostinato | D33: Exécute les rythmes en percussions corporelles et en parlé-rythmé | F33: Excercice de rythmique avec Rythm Randomizer
F34: Quiz d'activation des connaissances antérieures
F35: Type d'évaluation/observation
F37: Production d'élèves (anglais)
B38: Modalités: | C38: En présence, en classe.
A39: Phase de réalisation | B39: Enseignant | C39: 30 minutes (+ une autre période) | D39: Tâche(s) de l'élève | F39: Ressources numériques et matérielles
B40: Activité 1 | F40: Vidéo élément déclencheur
B41: Écouter en grand groupe la vidéo Regarder la partition en grand groupe Diviser la classe au nombre de voix voulu et créer des équipes | D41: En équipe, les élèves pratiquent leur partition. | F41: PDF de la partition
B42: Activité 2 | F42: Ressources RÉCIT ARTS
B43: Retour en grand groupe, on pratique en superposant les voix, faire cela aussi la prochaine période. | D43: Chacun interprète sa partie | F43: Grille d'observation
B44: Modalités: | C44: En présence, en classe.
A45: Phase d'intégration | B45: Enseignant | C45: 10 minutes | D45: Retour réflexif | F45: Ressources numériques et matérielles
B46: Retour sur les apprentissages
...

Sheet Toutes les références
A1: Domaine généraux de formation PRIMAIRE
A2: Domaine généraux de formation SECONDAIRE | D2: 1er cycle | E2: 2e cycle
A4: Compétences transversales PRIMAIRE
A5: Compétences transversales SECONDAIRE | D5: 1er cycle | E5: 2e cycle
A7: Art dramatique | B7: primaire | C7: secondaire
A8: PFÉQ | D8: PdA
A9: PFÉQ art dramatique primaire | D9: Progression des apprentissages Art dramatique primaire | I9: Cadre d'évaluation des apprentissages Art dramatique primaire
A10: PFÉQ art dramatique secondaire 1er cycle | D10: Progression des apprentissages Art dramatique secondaire | I10: Cadre d'évaluation des apprentissages Art dramatique secondaire
A11: PFÉQ art dramatique secondaire 2e cycle
A13: Arts plastiques | B13: primaire | C13: secondaire
A14: PFÉQ | D14: PdA
A15: PFÉQ arts plastiques primaire | D15: Progression des apprentissages Arts plastiques primaire | I15: Cadre d'évaluation des apprentissages Arts plastiques primaire
A16: PFÉQ arts plastiques secondaire 1er cycle | D16: Progression des apprentissages Arts plastiques secondaire | I16: Cadre d'évaluation des apprentissages Arts plastiques secondaire
A17: PFÉQ arts plastiques secondaire 2e cycle
A18: Gabarit de présentation Primaire (Canva) | F18: Gabarit de présentation Secondaire (Canva)
A20: Danse | B20: primaire | C20: secondaire
A21: PFÉQ | D21: PdA
A22: PFÉQ danse primaire | D22: Progression des apprentissages Danse primaire | I22: Cadre d'évaluation des apprentissages Danse primaire
A23: PFÉQ danse secondaire 1er cycle | D23: Progression des apprentissages Danse secondaire | I23: Cadre d'évaluation des apprentissages Danse secondaire
A24: PFÉQ danse secondaire 2e cycle
A26: Musique | B26: primaire | C26: secondaire
A27: PFÉQ | D27: PdA
A28: PFÉQ musique primaire | D28: Progression des apprentissages Musique primaire | I28: Cadre d'évaluation des apprentissages Musique primaire
A29: PFÉQ musique secondaire 1er cycle | D29: Progression des apprentissages Musique secondaire | I29: Cadre d'évaluation des apprentissages Musique secondaire
A30: PFÉQ musique secondaire 2e cycle
M33: Vidéos explicatives
A34: Cadre de référence de la compétence numérique | H34: Résumé Genially | M34: Le cadre : Normand Roy - Le cadre de référence de la compétence numérique
A35: Pour développer votre compétence numérique
A36: Vidéo explicative
A37: Dimension 1 | B37: Agir en citoyen éthique à l'ère du numérique | M37: 1- Simon Collin - Les enjeux éthiques et sociaux des usages du numérique
A38: Dimension 2 | B38: Développer et mobiliser ses habiletés technologiques | M38: 2 et 3 : Bruno Poellhuber - Le numérique pour l’apprentissage
A39: Dimension 3 | B39: Exploiter le potentiel du numérique pour l'apprentissage
A40: Dimension 4 | B40: Développer et mobiliser sa culture informationnelle | M40: 4 et 11 Florent Michelot - La culture informationnelle
A41: Dimension 5 | B41: Collaborer à l'aide du numérique | M41: 3, 9 et 10 : Chantal Tremblay - Le marché du travail à l'ère du numérique
A42: Dimension 6 | B42: Communiquer à l'aide du numérique | M42: 5 et 6 : Audrey Raynault - La collaboration avec le numérique
A43: Dimension 7 | B43: Produire du contenu avec le numérique | M43: 7 : Patrick Giroux - Apprendre à produire du contenu diversifié à l'aide du numérique
A44: Dimension 8 | B44: Mettre à profit le numérique en tant que vecteur d'inclusion et pour répondre à des besoins diversifiés | M44: 8 : Simon Collin - Le numérique en réponse à des besoins diversifiés
A45: Dimension 9 | B45: Adopter une perspective de développement personnel et professionnel avec le numérique dans une posture d'autonomisation | M45: 9 - Florian Meyer - L'autonomisation au cœur du développement personnel et professionnel
A46: Dimension 10 | B46: Résoudre une variété de problèmes avec le numérique | M46: 5 et 10 : Raoul Kamga Kouamkam - La résolution collaborative de problèmes à l'aide du numérique
A47: Dimension 11 | B47: Développer sa pensée critique à l'égard du numérique
...

Sheet NE PAS TOUCHER
A2: Disciplines | C2: Ordre | D2: Primaire | F2: Compétences_transversales | G2: Domaines_généraux_de_formation | H2: Cadre_de_référence_de_la_compétence_numérique | J2: Éléments_des_dimensions | K2: 2 | L2: 3 | M2: 4 | N2: 5 | O2: 6 | P2: 7 | Q2: 8 | R2: 9 | S2: 10 | T2: 11 | U2: 12 | W2: Domaines et axes
A3: Art_dramatique | C3: Primaire | D3: 1er_cycle | F3: Exploiter_l_information | G3: Santé_et_bien_être | H3: Agir_en_citoyen_éthique_à_l_ère_du_numérique | I3: Débutant | J3: =H3 -> Agir_en_citoyen_éthique_à_l_ère_du_numérique | K3: =H4 -> Développer_et_mobiliser_ses_habiletés_technologiques | L3: =H5 -> Exploiter_le_potentiel_du_numérique_pour_l_apprentissage | M3: =H6 -> Développer_et_mobiliser_sa_culture_informationnelle | N3: =H7 -> Collaborer_à_l_aide_du_numérique | O3: =H8 -> Communiquer_à_l_aide_du_numérique | P3: =H9 -> Produire_du_contenu_avec_le_numérique | Q3: =H10 -> Mettre_à_profit_le_numérique_en_tant_que_vecteur_d_inclusion_et_pour_répondre_à_des_besoins_diversifiés | R3: =H11 -> Adopter_une_perspective_de_développement_personnel_et_professionnel_avec_le_numérique_dans_une_posture_d_autonomisation | S3: =H12 -> Résoudre_une_variété_de_problèmes_avec_le_numérique | T3: =H13 -> Développer_sa_pensée_critique_à_l_égard_du_numérique | U3: =H14 -> Innover_et_faire_preuve_de_créativité_avec_le_numérique | W3: =G3 -> Santé_et_bien_être | X3: =G4 -> Orientation_et_entrepreneuriat | Y3: =G5 -> Environnement_et_consommation | Z3: =G6 -> Médias | AA3: =G7 -> Vivre_ensemble_et_citoyenneté
A4: Arts_plastiques | C4: Secondaire | D4: 2e_cycle | F4: Résoudre_des_problèmes | G4: Orientation_et_entrepreneuriat | H4: Développer_et_mobiliser_ses_habiletés_technologiques | I4: Intermédiaire | J4: Agir de manière éthique en considérant la diversité sociale, culturelle et philosophique des parties prenantes de la société numérique ainsi que du contexte social, économique, environnemental ou professionnel dans lequel se déroulent les interactions | K4: Développer une compréhension globale à l’égard de l’intelligence artificielle et de ses impacts sur l’éducation, la société, la culture ou la politique | L4: Exploiter le numérique pour développer ou codévelopper des compétences disciplinaires, pédagogiques et technopédagogiques | M4: Sélectionner et utiliser adéquatement l’information en tenant compte du contexte de surcharge informationnelle, par exemple des bulles de filtres | N4: Saisir les occasions de collaborer, voire de cocréer en tirant pleinement parti de l’environnement médiatique ou numérique | O4: Communiquer adéquatement avec autrui, en adaptant ses messages au contexte et en tenant compte des règles et des conventions liées à la communication numérique | P4: Produire ou coproduire une diversité de contenus (numériques ou non) avec le numérique et dans le cadre d’activités pédagogiques, professionnelles ou de la vie courante | Q4: Mettre_à_profit_le_numérique_en_tant_que_vecteur_d_inclusion_et_pour_répondre_à_des_besoins_diversifiés | R4: Acquérir, maintenir ou développer des compétences pour sa vie professionnelle actuelle ou future à l’aide du numérique | S4: Analyser une situation pour se faire une représentation complète et adéquate d’un problème, puis élaborer une solution satisfaisante et la mettre en œuvre | T4: Aborder le contenu numérique en faisant preuve de pensée critique de façon à l’évaluer avant de l’utiliser | U4: Développer sa capacité à innover en utilisant le numérique pour des projets créatifs réalisés dans un contexte artistique, personnel ou professionnel | W4: Conscience de soi et de ses besoins fondamentaux | X4: Conscience de soi, de son potentiel et de ses modes d’actualisation | Y4: Connaissance de l’environnement | Z4: Constat de la place et de l’influence des médias dans sa vie quotidienne et dans la société | AA4: Valorisation des règles de vie en société et des institutions démocratiques
A5: Danse | D5: 3e_cycle | F5: Exercer_son_jugement_critique | G5: Environnement_et_consommation | H5: Exploiter_le_potentiel_du_numérique_pour_l_apprentissage | I5: Avancé | J5: Être conscient de l’impact de son utilisation du numérique sur son bien-être physique et psychologique | K5: Cultiver sa sensibilité face aux phénomènes émergents liés au numérique et à ses impactssur l’éducation | L5: Sélectionner et utiliser adéquatement les outils et ressources numériques qui favorisent son apprentissage, notamment pour s’autoévaluer | M5: Reconnaître les situations qui nécessitent de l’information et agir en conséquence en planifiant et en mettant en œuvre une stratégie de recherche efficace et rigoureuse | N5: Sélectionner et utiliser les outils numériques de collaboration appropriés en fonction de ses besoins et du contexte | O5: Sélectionner et utiliser les outils numériques de communication appropriés en fonction de ses besoins | P5: Sélectionner et utiliser les outils numériques de production appropriés en fonction de ses besoins | Q5: Sélectionner et utiliser un outil numérique après avoir effectué une analyse adaptée de ses besoins | R5: Développer ses compétences entrepreneuriales et son autonomie à l’aide du numérique | S5: Solliciter ou proposer du soutien pour développer une solution collaborative, notamment à travers des communautés numériques; | T5: Élaborer son jugement envers le numérique de façon intentionnelle en se basant sur des critères d’analyse rigoureux, en exploitant des ressources numériques et en les comparant entre elles | U5: Exploiter ou concevoir des démarches d’innovation visant à améliorer ou à créer des objets, des projets ou des processus | W5: Conscience des conséquences de ses choix personnels pour sa santé et son bien-être | X5: Appropriation des stratégies liées à un projet | Y5: Construction d’un environnement viable dans une perspective de développement durable | Z5: Appréciation des représentations médiatiques de la réalité | AA5: Engagement, coopération et solidarité
A6: Musique | F6: Mettre_en_oeuvre_sa_pensée_créatrice | G6: Médias | H6: Développer_et_mobiliser_sa_culture_informationnelle | J6: Comprendre les enjeux liés à la marchandisation des renseignements personnels, à l’influence de la publicité numérique et à la perception de la crédibilité des sites Web | K6: S’approprier les nouvelles technologies pour maintenir sa compétence numérique à jour | L6: Utiliser les occasions offertes par le numérique pour alimenter sa curiosité et son ouverture sur le monde ainsi que pour apprendre ou faire apprendre | M6: Mobiliser l’ensemble des ressources disponibles, notamment les experts de contenu ou les spécialistes de l’information | N6: Développer des habiletés interpersonnelles permettant d’interagir respectueusement et efficacement avec autrui, en ayant conscience de son rôle au sein d’un groupe | O6: Mobiliser une diversité de stratégies et d’outils numériques de communication et les utiliser dans le cadre d’activités pédagogiques, professionnelles ou de la vie courante | P6: Utiliser différents supports médiatiques tels que du texte, du son ou des images pour manipuler des données numériques | Q6: Analyser les fonctionnalités de chaque outil en fonction des besoins à combler et des contraintes d’accessibilité d’ordre culturel, physique, technique ou économique, afin d’évaluer les bénéfices et les limites | R6: Utiliser le numérique pour favoriser son insertion professionnelle, notamment en faisant valoir ses compétences auprès de futurs employeurs | S6: Mobiliser différentes ressources et agir avec créativité pour résoudre un problème | T6: Poser un jugement réflexif sur son utilisation du numérique en faisant preuve d’autocritique | U6: Saisir les possibilités technologiques pour développer et exprimer sa propre créativité et, éventuellement, alimenter celle des autres | W6: Mode de vie actif et comportement sécuritaire | X6: Connaissance du monde du travail, des rôles sociaux, des métiers et des professions | Y6: Consommation et utilisation responsables de biens et de services | Z6: Appropriation du matériel et des codes de communication médiatique | AA6: Contribution à la culture de la paix
D7: Secondaire | F7: Se_donner_des_méthodes_de_travail_efficaces | G7: Vivre_ensemble_et_citoyenneté | H7: Collaborer_à_l_aide_du_numérique | J7: Mener une réflexion éthique sur les lois et les règlements en vigueur qui portent sur le numérique, y compris ceux qui concernent le droit d’auteur | K7: Développer sa pensée informatique, notamment par le développement de sa compréhension et de ses habiletés à l’égard de la programmation informatique | M7: Évaluer, à l’aide de critères rigoureux, l’information traditionnelle et l’information numérique, y compris celle publiée par son entourage et sur les médias sociaux, en faisant preuve de jugement dans la détermination de la crédibilité et de la fiabilité des sources et du contenu | N7: Proposer de mettre à profit ses compétences au service de la collectivité | O7: Reconnaître ou définir les balises nécessaires pour préserver la confidentialité de ses échanges et de ceux des autres | P7: Consulter et utiliser les contenus disponibles dans son environnement immédiat ou virtuel pour s’inspirer et pour nourrir ses productions, dans le respect des autres productrices et producteurs, tant d’un point de vue éthique que d’un point de vue légal | R7: Consulter des contenus numériques et des réseaux professionnels appropriés pour rester à l’affût des éléments nouveaux liés à son domaine professionnel actuel ou futur et répondre à ses besoins en matière de formation continue | S7: Évaluer et ajuster sa démarche tout au long du processus | T7: Prendre conscience des enjeux liés aux médias, aux avancées scientifiques, à l’évolution de la technologie et à l’usage que l’on en fait pour poser un jugement critique, notamment en ce qui concerne les bénéfices et les limites du numérique | U7: Démontrer sa réceptivité et son ouverture à l’égard des innovations des autres | Y7: Conscience des aspects sociaux, économiques et éthiques du monde de la consommation | Z7: Connaissance et respect des droits et responsabilités individuels et collectifs relativement aux médias
F8: Exploiter_les_TIC | H8: Communiquer_à_l_aide_du_numérique | K8: Sécuriser ses données personnelles à l’aide de ressources appropriées, notamment en considérant les risques liés à l’utilisation du numérique | M8: Ajuster, au besoin, ses résultats de recherche en fonction de leur évaluation et organiser le contenu de ses recherches pour l’analyser | N8: Utiliser un ensemble d’outils numériques de collaboration diversifiés et accomplir différentes tâches permettant au groupe de cocréer
D9: Année_du_cycle | F9: Actualiser_son_potentiel | H9: Produire_du_contenu_avec_le_numérique | K9: Mobiliser les habiletés technologiques nécessaires à l’utilisation des différents logiciels, plateformes numériques ou applications dans le cadre d’activités pédagogiques ou d’activités de la vie de tous les jours | M9: Adopter une attitude réflexive sur l’information et ses usages en étant conscient des contextes dans lesquels elle a été produite et reçue ainsi que des raisons pour lesquelles elle est utilisée | W9: Compétences transversales
D10: 1 | F10: Coopérer | H10: Mettre_à_profit_le_numérique_en_tant_que_vecteur_d_inclusion_et_pour_répondre_à_des_besoins_diversifiés | K10: Explorer le fonctionnement mécanique, électronique ou informatique d’appareils du quotidien | W10: =F3 -> Exploiter_l_information | X10: =F4 -> Résoudre_des_problèmes | Y10: =F5 -> Exercer_son_jugement_critique | Z10: =F6 -> Mettre_en_oeuvre_sa_pensée_créatrice | AA10: =F7 -> Se_donner_des_méthodes_de_travail_efficaces | AB10: =F8 -> Exploiter_les_TIC | AC10: =F9 -> Actualiser_son_potentiel | AD10: =F10 -> Coopérer | AE10: =F11 -> Communiquer_de_façon_appropriée
D11: 2 | F11: Communiquer_de_façon_appropriée | H11: Adopter_une_perspective_de_développement_personnel_et_professionnel_avec_le_numérique_dans_une_posture_d_autonomisation | K11: Mettre en œuvre une solution adéquate ou solliciter de l’aide pour résoudre un problème technologique | W11: Systématiser la quête d’information | X11: Analyser les éléments de la situation | Y11: Construire son opinion | Z11: S’imprégner des éléments d’une situation | AA11: Visualiser la tâche dans son ensemble | AB11: Utiliser les technologies appropriées | AC11: Reconnaître ses caractéristiques personnelles | AD11: Contribuer au travail coopératif | AE11: S'approprier divers langages
D12: 3 | H12: Résoudre_une_variété_de_problèmes_avec_le_numérique | W12: S’approprier l’information | X12: Mettre à l’essai des pistes de solution | Y12: Exprimer son opinion | Z12: S’engager dans l’exploration | AA12: Réguler sa démarche | AB12: Tirer profit de l’utilisation de la technologie | AC12: Prendre sa place parmi les autres | AD12: Tirer profit du travail coopératif | AE12: Recourir à divers modes de communication
H13: Développer_sa_pensée_critique_à_l_égard_du_numérique | W13: Tirer profit de l’information | X13: Adopter un fonctionnement souple | Y13: Relativiser son opinion | Z13: Adopter un fonctionnement souple | AA13: Analyser sa démarche | AB13: Évaluer l’efficacité de l’utilisation de la technologie | AC13: Mettre à profit ses ressources personnelles | AD13: Interagir avec ouverture d'esprit dans différents contextes | AE13: Gérer sa communication
H14: Innover_et_faire_preuve_de_créativité_avec_le_numérique
C17: Connaissances | V17: Connaissances
A18: MUSIQUE Primaire | C18: =A26 -> Langage_musical | M18: Références | Q18: MUSIQUE Secondaire | S18: ◯ | T18: Programme obligatoire | AA18: Références
A19: Compétences_disciplinaires_primaire | C19: =C26 -> Représentation_graphique | N19: =HYPERLINK("http://www.education.gouv.qc.ca/fileadmin/site_web/documents/education/jeunes/pfeq/PDA_PFEQ_musique-primaire_2009.pdf","PDF de la Progression des apprentissages") -> PDF de la Progression des apprentissages | Q19: Compétences_disciplinaires_secondaire | S19: ▢ | T19: Programme optionnel | V19: =Q26 -> Règles_de_musique_d_ensemble | AB19: =HYPERLINK("http://www.education.gouv.qc.ca/fileadmin/site_web/documents/education/jeunes/pfeq/PDA_PFEQ_musique-secondaire_2010.pdf","PDF de la Progression des apprentissages") -> PDF de la Progression des apprentissages
A20: C1-Inventer des pièces vocales ou instrumentales | C20: =E26 -> Moyens_sonores | N20: =HYPERLINK("http://www.education.gouv.qc.ca/fileadmin/site_web/documents/education/jeunes/pfeq/CE_PFEQ_musique-primaire.pdf","Cadre d'évaluation des apprentissages") -> Cadre d'évaluation des apprentissages | Q20: C1-Créer des oeuvres musicales | S20: △ | T20: Programme optionnel et multimédia | V20: =S26 -> Procédés_de_composition | AB20: =HYPERLINK("http://www.education.gouv.qc.ca/fileadmin/site_web/documents/education/jeunes/pfeq/CE_PFEQ_musique-secondaire_2011.pdf","Cadre d'évaluation des apprentissages") -> Cadre d'évaluation des apprentissages
A21: C2-Interpréter des pièces musicales | C21: =G26 -> Techniques_instrumentales | M21: Le contenu est simplifié. Se référer aux documents en cas de doute. | Q21: C2-Interpréter des oeuvres musicales | V21: =U26 -> Moyens_sonores_techniques | AA21: Le contenu est simplifié. Se référer aux documents en cas de doute.
A22: C3-Apprécier des œuvres musicales, ses réalisations et celles de ses camarades | C22: =I26 -> Règles_de_musique_d_ensemble | N22: =HYPERLINK("http://www.education.gouv.qc.ca/fileadmin/site_web/documents/ministere/Cadre-reference-competence-num.pdf","Cadre de référence de la compétence numérique") -> Cadre de référence de la compétence numérique | Q22: C3-Apprécier des oeuvres musicales | V22: =Y27 -> Langage_musical | AB22: =HYPERLINK("http://www.education.gouv.qc.ca/fileadmin/site_web/documents/ministere/Cadre-reference-competence-num.pdf","Cadre de référence de la compétence numérique") -> Cadre de référence de la compétence numérique
C23: =K26 -> Procédés_de_composition | V23: =AA27 -> Structures
A24: Connaissances | C24: =M26 -> Structures
A26: Langage_musical | C26: Représentation_graphique | E26: Moyens_sonores | G26: Techniques_instrumentales | I26: Règles_de_musique_d_ensemble | K26: Procédés_de_composition | M26: Structures | O26: Critères_d_évaluation | Q26: Règles_de_musique_d_ensemble | S26: Procédés_de_composition | U26: Moyens_sonores_techniques | Y26: Concepts_et_notions | AC26: Critères_d_évaluation
Y27: Langage_musical | AA27: Structures
A28: =A35 -> Intensité_et_nuances | C28: =C35 -> Code_traditionnel | E28: =E35 -> Voix_et_corps | G28: =G35 -> Voix | I28: Règles_de_musique_d_ensemble | K28: Procédés_de_composition | M28: =M35 -> Forme | Q28: Règles_de_musique_d_ensemble | S28: Procédés_de_composition | U28: =U35 -> Musique_vocale_musique_instrumentale
A29: =A43 -> Durée | C29: =C48 -> Code_non_traditionnel_conventionnel | E29: =E40 -> Instruments_de_musique | G29: =G43 -> Instruments_de_percussion_et_autres_moyens_sonores | M29: =M42 -> Tempo | U29: =U44 -> Techniques_vocales_TV | Y29: =Y36 -> Représentation_graphique_à_l_aide_d_un_code_traditionnel_ou_d_un_code_non_traditionnel_conventionnel | AA29: =AB36 -> Forme
A30: =A53 -> Hauteur | C30: =C55 -> Autre_code | E30: =E46 -> Objets_sonores | G30: =G50 -> Flûte_à_bec | M30: =M53 -> Organisation_rythmique | U30: =U63 -> Techniques_instrumentales_TI | Y30: =Y40 -> Intensité_et_nuances | AA30: =AB47 -> Tempo
A31: =A59 -> Timbre | E31: =E54 -> TIC | M31: =M60 -> Organisation_mélodique | Y31: =Y53 -> Durée | AA31: =AB59 -> Organisation_rythmique
A32: =A67 -> Qualité_du_son | Y32: =Y60 -> Hauteur | AA32: =AB69 -> Organisation_mélodique
Y33: =Y76 -> Timbre | AA33: =AB82 -> Organisation_harmonique
Y34: =Y86 -> Qualité_du_son
A35: Intensité_et_nuances | C35: Code_traditionnel | D35: Pas au programme de ce cycle | E35: Voix_et_corps | G35: Voix | M35: Forme | O35: C1-C2 Maîtrise des connaissances ciblées par la progression des apprentissages : Langage musical | Q35: Indications sonores ou visuelles liées à la musique d’ensemble | U35: Musique_vocale_musique_instrumentale | AC35: C1-C2 Maîtrise des connaissances ciblées par la progression des apprentissages : Règles relatives à la musique d’ensemble
A36: Cycle 1 | B36: Sons forts | C36: Cycle 2 | D36: piano | E36: Cycle 1 | F36: Voix chantée | G36: Cycle 1 | H36: Musique_Primaire_Voix__cycle | I36: Cycle 1 | J36: Gestes de direction de début de la pièce | K36: Cycle 1 | L36: Question et réponse | O36: C1-C2 Maîtrise des connaissances ciblées par la progression des apprentissages : Représentation graphique | Q36: Cycle 1 | R36: Début et fin de l'oeuvre | S36: Cycle 1 | T36: Question/réponse | Y36: Représentation_graphique_à_l_aide_d_un_code_traditionnel_ou_d_un_code_non_traditionnel_conventionnel | AB36: Forme | AC36: C1-C2 Maîtrise des connaissances ciblées par la progression des apprentissages : Procédés de composition
A37: Cycle 1 | B37: Sons doux | C37: Cycle 2 | D37: forte | E37: Cycle 1 | F37: Effets vocaux | G37: Cycle 1 | H37: Respiration | I37: Cycle 1 | J37: Gestes de direction de fin de la pièce | K37: Cycle 1 | L37: Contraste | M37: Cycle 1 | N37: A-B | O37: C1-C2 Maîtrise des connaissances ciblées par la progression des apprentissages : Moyens sonores | Q37: Cycle 1 | R37: Nuances | S37: Cycle 1 | T37: Contraste | U37: Cycle 1 | V37: Voix | Y37: Cycle 1 | Z37: Symboles graphiques liés au langage musical | AA37: Cycle 1 | AB37: Forme personnelle | AC37: C1-C2 Maîtrise des connaissances ciblées par la progression des apprentissages : Moyens sonores, techniques
A38: Cycle 2 | B38: forte | C38: Cycle 2 | D38: crescendo | E38: Cycle 1 | F38: Percussions corporelles | G38: Cycle 1 | H38: Justesse | I38: Cycle 1 | J38: Gestes de direction liés aux nuances | K38: Cycle 1 | L38: Reproduction sonore | M38: Cycle 2 | N38: A-B-A | O38: C1-C2 Maîtrise des connaissances ciblées par la progression des apprentissages : Techniques instrumentales | Q38: Cycle 1 | R38: Pulsation | S38: Cycle 1 | T38: Reproduction sonore | U38: Cycle 1 | V38: Cordes | Y38: Cycle 1 | Z38: Symboles graphiques liés à la structure | AA38: Cycle 1 | AB38: Forme A B | AC38: C1-C2 Maîtrise des connaissances ciblées par la progression des apprentissages : Médias, outils, techniques (2e cycle)
A39: Cycle 2 | B39: piano | C39: Cycle 2 | D39: decrescendo | G39: Cycle 1 | H39: Posture (Voix) | I39: Cycle 1 | J39: Indications sonores ou visuelles | K39: Cycle 2 | L39: Répétition | M39: Cycle 3 | N39: Canon à deux voix | O39: C1-C2 Maîtrise des connaissances ciblées par la progression des apprentissages : Règles de musique d’ensemble | Q39: Cycle 1 | R39: Changement de tempo | S39: Cycle 1 | T39: Répétition | U39: Cycle 1 | V39: Vents | AA39: Cycle 1 | AB39: Forme A B A | AC39: C1-C2 Maîtrise des connaissances ciblées par la progression des apprentissages : Concepts et notions
A40: Cycle 2 | B40: crescendo- | C40: Cycle 2 | D40: Blanche | E40: Instruments_de_musique | G40: Cycle 2 | H40: Prononciation | I40: Cycle 2 | J40: Gestes de direction liés à la pulsation | K40: Cycle 3 | L40: Collage | M40: Cycle 3 | N40: Forme rondo | O40: C1-C2 Maîtrise des connaissances ciblées par la progression des apprentissages : Procédés de composition | Q40: Cycle 2 ◯ | R40: Phrasé | S40: Cycle 1 | T40: Collage | U40: Cycle 1 | V40: Percussions_ | Y40: Intensité_et_nuances | AA40: Cycle 1 | AB40: Canon à deux voix | AC40: C1-C2 Efficacité de l’utilisation des connaissances liées au langage musical
A41: Cycle 2 | B41: decrescendo | C41: Cycle 2 | D41: Noire | G41: Cycle 3 | H41: Tonus | I41: Cycle 3 | J41: Gestes de direction liés aux changements de tempo | K41: Cycle 3 | L41: Ostinato | O41: C1-C2 Maîtrise des connaissances ciblées par la progression des apprentissages : Structures | Q41: Cycle 2 ◯ | R41: Équilibre entre les parties | S41: Cycle 1 | T41: Ostinato | U41: Cycle 1 | V41: Percussions corporelles | AA41: Cycle 1 | AB41: Rondo | AC41: C1-C2 Efficacité de l’utilisation des connaissances liées aux éléments de techniques
C42: Cycle 2 | D42: Deux croches | E42: Cycle 1 | F42: Instruments de percussion | K42: Cycle 3 | L42: Miroir | M42: Tempo | O42: C1-C2 Efficacité de l’utilisation des connaissances liées au langage musical | Q42: Cycle 2 ◯ | R42: Expression | S42: Cycle 1 | T42: Miroir | U42: Cycle 1 | V42: TIC | Y42: Cycle 1 | Z42: piano_ | AA42: Cycle 1 | AB42: Canon_ | AC42: C1-C2 Cohérence de l’organisation des éléments
A43: Durée | C43: Cycle 2 | D43: Soupir | E43: Cycle 1 | F43: Instruments de la classe | G43: Instruments_de_percussion_et_autres_moyens_sonores | O43: C1-C2 Efficacité de l’utilisation des connaissances liées aux éléments de techniques | S43: Cycle 1 | T43: Augmentation | Y43: Cycle 1 | Z43: forte_ | AA43: Cycle 1 | AB43: Thème et variations | AC43: C1-C2 Authenticité de la production
C44: Cycle 2 | D44: Symboles liés à la hauteur sur la portée | E44: Cycle 2 | F44: Flûte à bec | M44: Cycle 1 | N44: Lent | O44: C1-C2 Cohérence de l’organisation des éléments | S44: Cycle 2 ◯ | T44: Couplet-refrain | U44: Techniques_vocales_TV | Y44: Cycle 1 | Z44: crescendo_ | AA44: Cycle 1 | AB44: Signes de renvoi | AC44: C1-C2 Respect des caractéristiques de l’œuvre
...

Sheet NE PAS TOUCHER 2
A1: Déploiement des choix conditionnels
E2: Lettre
A3: B5 | B3: B6 | C3: c11 | D3: B16 | E3: B14 À G14 | F3: B15 | G3: C15 | H3: D15 | I3: E15 | J3: F15 | K3: G15
A4: {=INDIRECT('[1]Activité pédagogique en ARTS'!E3)} -> #REF! | B4: =CONCATENATE('[1]Activité pédagogique en ARTS'!E3,"_",'[1]Activité pédagogique en ARTS'!G3) -> #REF! | C4: =CONCATENATE('[1]Activité pédagogique en ARTS'!C3,"_",'[1]Activité pédagogique en ARTS'!E3) -> #REF! | D4: =CONCATENATE('[1]Activité pédagogique en ARTS'!C3,"_",'[1]Activité pédagogique en ARTS'!E3,"_",'NE PAS TOUCHER'!O26) -> #REF! | E4: =CONCATENATE('[1]Activité pédagogique en ARTS'!C3,"_",'[1]Activité pédagogique en ARTS'!E3,"_",'NE PAS TOUCHER'!C17) -> #REF! | F4: =CONCATENATE('[1]Activité pédagogique en ARTS'!C3,"_",'[1]Activité pédagogique en ARTS'!E3,"_",'[1]Activité pédagogique en ARTS'!B14) -> #REF! | G4: =CONCATENATE('[1]Activité pédagogique en ARTS'!C3,"_",'[1]Activité pédagogique en ARTS'!E3,"_",'[1]Activité pédagogique en ARTS'!C14) -> #REF! | H4: =CONCATENATE('[1]Activité pédagogique en ARTS'!C3,"_",'[1]Activité pédagogique en ARTS'!E3,"_",'[1]Activité pédagogique en ARTS'!D14) -> #REF! | I4: =CONCATENATE('[1]Activité pédagogique en ARTS'!C3,"_",'[1]Activité pédagogique en ARTS'!E3,"_",'[1]Activité pédagogique en ARTS'!E14) -> #REF! | J4: =CONCATENATE('[1]Activité pédagogique en ARTS'!C3,"_",'[1]Activité pédagogique en ARTS'!E3,"_",'[1]Activité pédagogique en ARTS'!F14) -> #REF! | K4: =CONCATENATE('[1]Activité pédagogique en ARTS'!C3,"_",'[1]Activité pédagogique en ARTS'!E3,"_",'[1]Activité pédagogique en ARTS'!G14) -> #REF!
B5: {=INDIRECT(B4)} -> #REF! | C5: {=INDIRECT(C4)} -> #REF! | D5: {=INDIRECT(D4)} -> #REF! | E5: {=INDIRECT(E4)} -> #REF!
F6: {=INDIRECT(F4)} -> #REF! | G6: {=INDIRECT(G4)} -> #REF! | H6: {=INDIRECT(H4)} -> #REF! | I6: {=INDIRECT(I4)} -> #REF! | J6: {=INDIRECT(J4)} -> #REF! | K6: {=INDIRECT(K4)} -> #REF!
F27: A 16 | G27: B16 | H27: C16 | I27: D16 | J27: E16 | K27: F16
F28: =CONCATENATE('[1]Activité pédagogique en ARTS'!C3,"_",'[1]Activité pédagogique en ARTS'!E3,"_",'[1]Activité pédagogique en ARTS'!B15,"_",'[1]Activité pédagogique en ARTS'!G3) -> #REF! | G28: =CONCATENATE('[1]Activité pédagogique en ARTS'!C3,"_",'[1]Activité pédagogique en ARTS'!E3,"_",'[1]Activité pédagogique en ARTS'!C15,"_",'[1]Activité pédagogique en ARTS'!G3) -> #REF! | H28: =CONCATENATE('[1]Activité pédagogique en ARTS'!C3,"_",'[1]Activité pédagogique en ARTS'!E3,"_",'[1]Activité pédagogique en ARTS'!D15,"_",'[1]Activité pédagogique en ARTS'!G3) -> #REF! | I28: =CONCATENATE('[1]Activité pédagogique en ARTS'!C3,"_",'[1]Activité pédagogique en ARTS'!E3,"_",'[1]Activité pédagogique en ARTS'!E15,"_",'[1]Activité pédagogique en ARTS'!G3) -> #REF! | J28: =CONCATENATE('[1]Activité pédagogique en ARTS'!C3,"_",'[1]Activité pédagogique en ARTS'!E3,"_",'[1]Activité pédagogique en ARTS'!F15,"_",'[1]Activité pédagogique en ARTS'!G3) -> #REF! | K28: =CONCATENATE('[1]Activité pédagogique en ARTS'!C3,"_",'[1]Activité pédagogique en ARTS'!E3,"_",'[1]Activité pédagogique en ARTS'!G15,"_",'[1]Activité pédagogique en ARTS'!G3) -> #REF!
F29: {=INDIRECT(F28)} -> #REF! | G29: {=INDIRECT(G28)} -> #REF! | H29: {=INDIRECT(H28)} -> #REF! | I29: {=INDIRECT(I28)} -> #REF! | J29: {=INDIRECT(J28)} -> #REF! | K29: {=INDIRECT(K28)} -> #REF!
E49: A Connaissances
A50: Paysage
A51: G3 | B51: C11 et C12 | C51: G4 | D51: C24 à C26 | F51: B Catégories | G51: D Choix x4 | H51: CD9 et EFG9 | J51: e7 | K51: c5
A52: {=INDIRECT('Titre de votre activité pédagog'!E3)} -> #REF! | B52: =CONCATENATE('Titre de votre activité pédagog'!C3,"_",'Titre de votre activité pédagog'!E3) -> _ | C52: =CONCATENATE('NE PAS TOUCHER'!D9,"_",'Titre de votre activité pédagog'!E3,"_",'Titre de votre activité pédagog'!G3) -> Année_du_cycle__ | D52: =CONCATENATE('Titre de votre activité pédagog'!C3,"_",'Titre de votre activité pédagog'!E3,"_",'NE PAS TOUCHER'!O26) -> __Critères_d_évaluation | E52: A15 à A21 | F52: C15 | G52: D15 à G15 | H52: ='Titre de votre activité pédagog'!C9 | J52: ='Titre de votre activité pédagog'!C7 | K52: ='Titre de votre activité pédagog'!C5
B53: {=INDIRECT(B52)} -> #REF! | C53: {=INDIRECT(C52)} -> #REF! | D53: {=INDIRECT(D52)} -> #REF! | E53: =CONCATENATE('Titre de votre activité pédagog'!C3,"_",'Titre de votre activité pédagog'!E3,"_",'NE PAS TOUCHER'!C17) -> __Connaissances | F53: =CONCATENATE('Titre de votre activité pédagog'!C3,"_",'Titre de votre activité pédagog'!E3,"_",'Titre de votre activité pédagog'!A19) -> __ | G53: =CONCATENATE('Titre de votre activité pédagog'!C3,"_",'Titre de votre activité pédagog'!E3,"_",'Titre de votre activité pédagog'!C19,"_",'Titre de votre activité pédagog'!G3) -> ___ | H53: {=INDIRECT(H52)} -> #REF! | J53: {=INDIRECT(J52)} -> #REF! | K53: {=INDIRECT(K52)} -> #REF!
E54: {=INDIRECT(E53)} -> #REF! | F54: {=INDIRECT(F53)} -> #REF! | G54: {=INDIRECT(G53)} -> #REF!
H70: CD11 et EFG 11 | J70: c8 | K70: e8
H71: ='Titre de votre activité pédagog'!C11 | J71: ='Titre de votre activité pédagog'!C7 | K71: ='Titre de votre activité pédagog'!E7
H72: {=INDIRECT(H71)} -> #REF! | J72: {=INDIRECT(J71)} -> #REF! | K72: {=INDIRECT(K71)} -> #REF!
F86: C16 | G86: D16 À G16 | H86: CD13 et EFG 13
F87: =CONCATENATE('Titre de votre activité pédagog'!C3,"_",'Titre de votre activité pédagog'!E3,"_",'Titre de votre activité pédagog'!A20) -> __ | G87: =CONCATENATE('Titre de votre activité pédagog'!C3,"_",'Titre de votre activité pédagog'!E3,"_",'Titre de votre activité pédagog'!C20,"_",'Titre de votre activité pédagog'!G3) -> ___ | H87: ='Titre de votre activité pédagog'!C13
F88: {=INDIRECT(F87)} -> #REF! | G88: {=INDIRECT(G87)} -> #REF! | H88: {=INDIRECT(H87)} -> #REF!
F115: C17 | G115: D17 À G17
F116: =CONCATENATE('Titre de votre activité pédagog'!C3,"_",'Titre de votre activité pédagog'!E3,"_",'Titre de votre activité pédagog'!A21) -> __ | G116: =CONCATENATE('Titre de votre activité pédagog'!C3,"_",'Titre de votre activité pédagog'!E3,"_",'Titre de votre activité pédagog'!C21,"_",'Titre de votre activité pédagog'!G3) -> ___
F117: {=INDIRECT(F116)} -> #REF! | G117: {=INDIRECT(G116)} -> #REF!
F145: C18 | G145: D18 À G18
F146: =CONCATENATE('Titre de votre activité pédagog'!C3,"_",'Titre de votre activité pédagog'!E3,"_",'Titre de votre activité pédagog'!A22) -> __ | G146: =CONCATENATE('Titre de votre activité pédagog'!C3,"_",'Titre de votre activité pédagog'!E3,"_",'Titre de votre activité pédagog'!C22,"_",'Titre de votre activité pédagog'!G3) -> ___
F147: {=INDIRECT(F146)} -> #REF! | G147: {=INDIRECT(G146)} -> #REF!
F177: C19 | G177: D19 À G19
F178: =CONCATENATE('Titre de votre activité pédagog'!C3,"_",'Titre de votre activité pédagog'!E3,"_",'Titre de votre activité pédagog'!A23) -> __ | G178: =CONCATENATE('Titre de votre activité pédagog'!C3,"_",'Titre de votre activité pédagog'!E3,"_",'Titre de votre activité pédagog'!C23,"_",'Titre de votre activité pédagog'!G3) -> ___
F179: {=INDIRECT(F178)} -> #REF! | G179: {=INDIRECT(G178)} -> #REF!
F213: C20 | G213: D20 À G20
F214: =CONCATENATE('Titre de votre activité pédagog'!C3,"_",'Titre de votre activité pédagog'!E3,"_",'Titre de votre activité pédagog'!A24) -> __ | G214: =CONCATENATE('Titre de votre activité pédagog'!C3,"_",'Titre de votre activité pédagog'!E3,"_",'Titre de votre activité pédagog'!C24,"_",'Titre de votre activité pédagog'!G3) -> ___
F215: {=INDIRECT(F214)} -> #REF! | G215: {=INDIRECT(G214)} -> #REF!
